BEGIN:VCALENDAR
VERSION:2.0
PRODID:-//Purdue Convocations - ECPv6.15.20//NONSGML v1.0//EN
CALSCALE:GREGORIAN
METHOD:PUBLISH
X-ORIGINAL-URL:https://convocations.purdue.edu
X-WR-CALDESC:Events for Purdue Convocations
REFRESH-INTERVAL;VALUE=DURATION:PT1H
X-Robots-Tag:noindex
X-PUBLISHED-TTL:PT1H
BEGIN:VTIMEZONE
TZID:America/Indiana/Indianapolis
BEGIN:DAYLIGHT
TZOFFSETFROM:-0500
TZOFFSETTO:-0400
TZNAME:EDT
DTSTART:20240310T070000
END:DAYLIGHT
BEGIN:STANDARD
TZOFFSETFROM:-0400
TZOFFSETTO:-0500
TZNAME:EST
DTSTART:20241103T060000
END:STANDARD
BEGIN:DAYLIGHT
TZOFFSETFROM:-0500
TZOFFSETTO:-0400
TZNAME:EDT
DTSTART:20250309T070000
END:DAYLIGHT
BEGIN:STANDARD
TZOFFSETFROM:-0400
TZOFFSETTO:-0500
TZNAME:EST
DTSTART:20251102T060000
END:STANDARD
BEGIN:DAYLIGHT
TZOFFSETFROM:-0500
TZOFFSETTO:-0400
TZNAME:EDT
DTSTART:20260308T070000
END:DAYLIGHT
BEGIN:STANDARD
TZOFFSETFROM:-0400
TZOFFSETTO:-0500
TZNAME:EST
DTSTART:20261101T060000
END:STANDARD
END:VTIMEZONE
BEGIN:VEVENT
DTSTART;TZID=America/Indiana/Indianapolis:20250912T153000
DTEND;TZID=America/Indiana/Indianapolis:20250912T160000
DTSTAMP:20260422T200547
CREATED:20250903T221554Z
LAST-MODIFIED:20250903T221757Z
UID:10000584-1757691000-1757692800@convocations.purdue.edu
SUMMARY:Cirque Kikasse\, Purdue Indy
DESCRIPTION:Boiler Park\, Purdue Indianapolis\n\n\n\n\n\nA playful circus show with high-flying acrobatics performed atop a truck. \n\n\n\nTwo FREE performances in Boiler Park\, Purdue Indy at 1:00 PM & 3:30 PM \n\n\n\n\n\n\n\n\n\n\n\n    \n                    Buy Tickets\n                    PICK5+ & Save!\n            \n\n\n\n\n\n\n\n\n\n\n\n\n\n\n\n\n \n\n\n\n    \n\n\n\n    \n                \n            ABOUT Boiler Park\, Purdue Indianapolis\n        \n                \n\n\n\n\n\n\n\n\n\nGet ready for a circus spectacular unlike anything you’ve seen before—performed on top of a truck! Quebec’s dazzling Cirque Kikasse brings the heat with SANTÉ!\, where high-flying acrobatics meet pure infectious energy in a feast for the senses. \n\n\n\nWatch in awe as the troupe prepares their extraordinary terrace for service\, transforming ordinary tables and chairs into a towering 35-foot balancing act\, turning cleanup into trampoline-powered comedy\, and showering the crowd with a playful explosion of popcorn. This high-energy tour de force showcases such remarkable virtuosity it will thrill even the most seasoned circus fans while delighting your inner child. \n\n\n\nPart of Purdue Weeks of Welcome at Boiler Park\, SANTÉ! brings the magic of circus right to the heart of Purdue Indy! Grab your friends and catch these gravity-defying performers as they turn the everyday into the extraordinary. \n\n\n\n\n\n\n\n\nLike watching an elaborate Rube Goldberg cartoon machine as the clubs fly every which way and mostly land in the right hands. \n\n\n\n\n—To the Pointe \n\n\n\n\n\n\n\nFollow Boiler Park\, Purdue Indianapolis\n\n\n\n\n\n\n\n\n\n\n\n\n\n\n\n\n\n\n\n\n\n\n\n    \n                \n            Know Before You Go\n        \n                \n\n\n\nBring your chair or blanket to enjoy one of two FREE performances  (1:00 PM / 3:30 PM) in Boiler Park\, Purdue Indy! \n\n\n\n    \n                    Map of Boiler Park\n            \n\n\n\n\n    \n\n\n\n    \n                \n            Brought to you by Purdue Convocations\n        \n                \n\n\n\nConvos is Self-Supporting.Your Ticket Purchases and Generous GiftsPower it All! \n\n\n\n    \n                    Learn More\n            \n\n\n\n\n    \n\n\n\n    \n\n\n\n\n\n\n\n\n\n\n \n\n\n\n\n\n\n    \n                \n            Enhance your experience\n        \n                \n\n\n\n        \n        \n                            \n                    \n                                                    \n                                                                \n                                                                    \n                                        \n                                    \n                                                                    \n                                                                                    BUILD YOUR OWN SEASON \n                                                                                PICK5 + Save \n                                                                                    Did you know that if you buy 5 shows or more (not 5 tickets)\, you save an average of 10% off single-ticket prices? Experience the flexibility of designing your own PICK5 package! \n                                                                                    BUNDLE & SAVE\n                                                                            \n                                \n                            \n                                                    \n                                                                \n                                                                    \n                                        \n                                    \n                                                                    \n                                                                                    BRING YOUR FRIENDS \n                                                                                Group Discounts \n                                                                                    If you have 15 or more in your group\, you’ll receive a discount on your tickets as well as bonus tickets for tour organizers\, chaperones or bus drivers. Click here to fill out the group order form. \n                                                                                    BRING YOUR GROUP\n                                                                            \n                                \n                            \n                                                    \n                                                                \n                                                                    \n                                        \n                                    \n                                                                    \n                                                                                    SUPPORT THE ARTS AT PURDUE \n                                                                                Friends of Convos \n                                                                                    Our Friends of Convocations not only enjoy access to the best seats in the house\, but also special parking opportunities\, exclusive artist events\, Club Convos hospitality\, and more! \n                                                                                    Join Today
URL:https://convocations.purdue.edu/event/cirque-kikasse-purdue-indy-copy/2025-09-12/
LOCATION:Boiler Park\, Purdue Indianapolis\, 765 W. North Street\, Indianapolis\, IN\, 46202\, United States
CATEGORIES:Circus,Free,Theatre
ATTACH;FMTTYPE=image/jpeg:https://convocations.purdue.edu/wp-content/uploads/2025/08/16x9-Cirque-Kikasse-Ann-Arbor-©-Doug-Coombe-53893534129.jpg
GEO:39.7757606;-86.1719062
X-APPLE-STRUCTURED-LOCATION;VALUE=URI;X-ADDRESS=Boiler Park Purdue Indianapolis 765 W. North Street Indianapolis IN 46202 United States;X-APPLE-RADIUS=500;X-TITLE=765 W. North Street:geo:-86.1719062,39.7757606
END:VEVENT
BEGIN:VEVENT
DTSTART;TZID=America/Indiana/Indianapolis:20250912T130000
DTEND;TZID=America/Indiana/Indianapolis:20250912T133000
DTSTAMP:20260422T200547
CREATED:20250903T220957Z
LAST-MODIFIED:20250903T221351Z
UID:10000583-1757682000-1757683800@convocations.purdue.edu
SUMMARY:Cirque Kikasse\, Purdue Indy
DESCRIPTION:Boiler Park\, Purdue Indianapolis\n\n\n\n\n\nA playful circus show with high-flying acrobatics performed atop a truck. \n\n\n\nTwo FREE performances in Boiler Park\, Purdue Indy at 1:00 PM & 3:30 PM \n\n\n\n\n\n\n\n\n\n\n\n    \n                    Buy Tickets\n                    PICK5+ & Save!\n            \n\n\n\n\n\n\n\n\n\n\n\n\n\n\n\n\n \n\n\n\n    \n\n\n\n    \n                \n            ABOUT Boiler Park\, Purdue Indianapolis\n        \n                \n\n\n\n\n\n\n\n\n\nGet ready for a circus spectacular unlike anything you’ve seen before—performed on top of a truck! Quebec’s dazzling Cirque Kikasse brings the heat with SANTÉ!\, where high-flying acrobatics meet pure infectious energy in a feast for the senses. \n\n\n\nWatch in awe as the troupe prepares their extraordinary terrace for service\, transforming ordinary tables and chairs into a towering 35-foot balancing act\, turning cleanup into trampoline-powered comedy\, and showering the crowd with a playful explosion of popcorn. This high-energy tour de force showcases such remarkable virtuosity it will thrill even the most seasoned circus fans while delighting your inner child. \n\n\n\nPart of Purdue Weeks of Welcome at Boiler Park\, SANTÉ! brings the magic of circus right to the heart of Purdue Indy! Grab your friends and catch these gravity-defying performers as they turn the everyday into the extraordinary. \n\n\n\n\n\n\n\n\nLike watching an elaborate Rube Goldberg cartoon machine as the clubs fly every which way and mostly land in the right hands. \n\n\n\n\n—To the Pointe \n\n\n\n\n\n\n\nFollow Boiler Park\, Purdue Indianapolis\n\n\n\n\n\n\n\n\n\n\n\n\n\n\n\n\n\n\n\n\n\n\n\n    \n                \n            Know Before You Go\n        \n                \n\n\n\nBring your chair or blanket to enjoy one of two FREE performances  (1:00 PM / 3:30 PM) in Boiler Park\, Purdue Indy! \n\n\n\n    \n                    Map of Boiler Park\n            \n\n\n\n\n    \n\n\n\n    \n                \n            Brought to you by Purdue Convocations\n        \n                \n\n\n\nConvos is Self-Supporting.Your Ticket Purchases and Generous GiftsPower it All! \n\n\n\n    \n                    Learn More\n            \n\n\n\n\n    \n\n\n\n    \n\n\n\n\n\n\n\n\n\n\n \n\n\n\n\n\n\n    \n                \n            Enhance your experience\n        \n                \n\n\n\n        \n        \n                            \n                    \n                                                    \n                                                                \n                                                                    \n                                        \n                                    \n                                                                    \n                                                                                    BUILD YOUR OWN SEASON \n                                                                                PICK5 + Save \n                                                                                    Did you know that if you buy 5 shows or more (not 5 tickets)\, you save an average of 10% off single-ticket prices? Experience the flexibility of designing your own PICK5 package! \n                                                                                    BUNDLE & SAVE\n                                                                            \n                                \n                            \n                                                    \n                                                                \n                                                                    \n                                        \n                                    \n                                                                    \n                                                                                    BRING YOUR FRIENDS \n                                                                                Group Discounts \n                                                                                    If you have 15 or more in your group\, you’ll receive a discount on your tickets as well as bonus tickets for tour organizers\, chaperones or bus drivers. Click here to fill out the group order form. \n                                                                                    BRING YOUR GROUP\n                                                                            \n                                \n                            \n                                                    \n                                                                \n                                                                    \n                                        \n                                    \n                                                                    \n                                                                                    SUPPORT THE ARTS AT PURDUE \n                                                                                Friends of Convos \n                                                                                    Our Friends of Convocations not only enjoy access to the best seats in the house\, but also special parking opportunities\, exclusive artist events\, Club Convos hospitality\, and more! \n                                                                                    Join Today
URL:https://convocations.purdue.edu/event/cirque-kikasse-purdue-indy/2025-09-12/
LOCATION:Boiler Park\, Purdue Indianapolis\, 765 W. North Street\, Indianapolis\, IN\, 46202\, United States
CATEGORIES:Circus,Free,Theatre
ATTACH;FMTTYPE=image/jpeg:https://convocations.purdue.edu/wp-content/uploads/2025/08/16x9-Cirque-Kikasse-Ann-Arbor-©-Doug-Coombe-53893534129.jpg
GEO:39.7757606;-86.1719062
X-APPLE-STRUCTURED-LOCATION;VALUE=URI;X-ADDRESS=Boiler Park Purdue Indianapolis 765 W. North Street Indianapolis IN 46202 United States;X-APPLE-RADIUS=500;X-TITLE=765 W. North Street:geo:-86.1719062,39.7757606
END:VEVENT
END:VCALENDAR