BEGIN:VCALENDAR
VERSION:2.0
PRODID:-//Purdue Convocations - ECPv6.15.20//NONSGML v1.0//EN
CALSCALE:GREGORIAN
METHOD:PUBLISH
X-WR-CALNAME:Purdue Convocations
X-ORIGINAL-URL:https://convocations.purdue.edu
X-WR-CALDESC:Events for Purdue Convocations
REFRESH-INTERVAL;VALUE=DURATION:PT1H
X-Robots-Tag:noindex
X-PUBLISHED-TTL:PT1H
BEGIN:VTIMEZONE
TZID:America/Indiana/Indianapolis
BEGIN:DAYLIGHT
TZOFFSETFROM:-0500
TZOFFSETTO:-0400
TZNAME:EDT
DTSTART:20180311T070000
END:DAYLIGHT
BEGIN:STANDARD
TZOFFSETFROM:-0400
TZOFFSETTO:-0500
TZNAME:EST
DTSTART:20181104T060000
END:STANDARD
BEGIN:DAYLIGHT
TZOFFSETFROM:-0500
TZOFFSETTO:-0400
TZNAME:EDT
DTSTART:20190310T070000
END:DAYLIGHT
BEGIN:STANDARD
TZOFFSETFROM:-0400
TZOFFSETTO:-0500
TZNAME:EST
DTSTART:20191103T060000
END:STANDARD
BEGIN:DAYLIGHT
TZOFFSETFROM:-0500
TZOFFSETTO:-0400
TZNAME:EDT
DTSTART:20200308T070000
END:DAYLIGHT
BEGIN:STANDARD
TZOFFSETFROM:-0400
TZOFFSETTO:-0500
TZNAME:EST
DTSTART:20201101T060000
END:STANDARD
END:VTIMEZONE
BEGIN:VEVENT
DTSTART;TZID=America/Indiana/Indianapolis:20191114T193000
DTEND;TZID=America/Indiana/Indianapolis:20191114T193000
DTSTAMP:20260421T012255
CREATED:20190615T010014Z
LAST-MODIFIED:20191107T145826Z
UID:10000269-1573759800-1573759800@convocations.purdue.edu
SUMMARY:Yi-Nuo Wang\, piano
DESCRIPTION:Purdue Convocations has long been honored to present classical artists as their careers accelerate under auspices of the Concert Artists Guild Victor Elmaleh Competition. Fresh from her first-place finish in 2018\, Chinese pianist Yi-Nuo Wang continues that tradition\, as well as the continued animation of Convocations’ exploration of piano repertoire on a Steinway Concert Grand Piano gifted by Janet and John Nine. Wang began playing at age 4 in Beijing\, won her first competition at age 5 and studied at Beijing’s prestigious Central Conservatory of Music. Now an active performer alongside ensembles in Asia\, Europe and the United States\, Wang lives in New York—where she is pursuing her undergraduate degree at The Juilliard School and making her New York recital debut this season at Carnegie Hall.
URL:https://convocations.purdue.edu/event/yi-nuo-wang/
LOCATION:Loeb Playhouse\, 128 Memorial Mall\, West Lafayette\, IN\, 47907\, United States
CATEGORIES:Chamber,Music
ATTACH;FMTTYPE=image/png:https://convocations.purdue.edu/wp-content/uploads/2019/05/Wang-1920x600.png
ORGANIZER;CN="Purdue Convocations":MAILTO:convos@purdue.edu
GEO:40.42508;-86.912651
X-APPLE-STRUCTURED-LOCATION;VALUE=URI;X-ADDRESS=Loeb Playhouse 128 Memorial Mall West Lafayette IN 47907 United States;X-APPLE-RADIUS=500;X-TITLE=128 Memorial Mall:geo:-86.912651,40.42508
END:VEVENT
END:VCALENDAR