BEGIN:VCALENDAR
VERSION:2.0
PRODID:-//Purdue Convocations - ECPv6.15.20//NONSGML v1.0//EN
CALSCALE:GREGORIAN
METHOD:PUBLISH
X-ORIGINAL-URL:https://convocations.purdue.edu
X-WR-CALDESC:Events for Purdue Convocations
REFRESH-INTERVAL;VALUE=DURATION:PT1H
X-Robots-Tag:noindex
X-PUBLISHED-TTL:PT1H
BEGIN:VTIMEZONE
TZID:America/Indiana/Indianapolis
BEGIN:DAYLIGHT
TZOFFSETFROM:-0500
TZOFFSETTO:-0400
TZNAME:EDT
DTSTART:20180311T070000
END:DAYLIGHT
BEGIN:STANDARD
TZOFFSETFROM:-0400
TZOFFSETTO:-0500
TZNAME:EST
DTSTART:20181104T060000
END:STANDARD
BEGIN:DAYLIGHT
TZOFFSETFROM:-0500
TZOFFSETTO:-0400
TZNAME:EDT
DTSTART:20190310T070000
END:DAYLIGHT
BEGIN:STANDARD
TZOFFSETFROM:-0400
TZOFFSETTO:-0500
TZNAME:EST
DTSTART:20191103T060000
END:STANDARD
BEGIN:DAYLIGHT
TZOFFSETFROM:-0500
TZOFFSETTO:-0400
TZNAME:EDT
DTSTART:20200308T070000
END:DAYLIGHT
BEGIN:STANDARD
TZOFFSETFROM:-0400
TZOFFSETTO:-0500
TZNAME:EST
DTSTART:20201101T060000
END:STANDARD
END:VTIMEZONE
BEGIN:VEVENT
DTSTART;TZID=America/Indiana/Indianapolis:20191115T200000
DTEND;TZID=America/Indiana/Indianapolis:20191115T200000
DTSTAMP:20260421T040406
CREATED:20190615T010057Z
LAST-MODIFIED:20190625T040859Z
UID:10000297-1573848000-1573848000@convocations.purdue.edu
SUMMARY:Novalima
DESCRIPTION:Blending electronica beats with traditional instruments and tempos of Afro-Peruvian folk\, Novalima conjures the soundtrack to both contemporary midnight mysteries and cultures that have endured for hundreds of years. Formed by four friends from Lima\, Peru after their emergence from the city’s punk and psychedelic scenes\, Novalima reckons with the nation’s legacy of slavery through music. Their work merges three centuries’ worth of sound into a creative confection NPR likened to “a three-layer cake of time.” Here\, the paths of computer samples and percussive cajon slaps intersect in sleek\, sonically seductive grooves that incorporate aspects of reggae\, dub\, salsa\, hip-hop\, afrobeat and pan-Latin inflection. No matter the style\, Novalima understands that cultural divisions easily drop away on the common ground of a crowded dance floor.
URL:https://convocations.purdue.edu/event/novalima/
LOCATION:Carnahan Hall\, 2200 Elmwood Ave\, Lafayette\, IN\, 47904\, United States
CATEGORIES:Music
ATTACH;FMTTYPE=image/png:https://convocations.purdue.edu/wp-content/uploads/2019/05/Nova-1920x600.png
ORGANIZER;CN="Purdue Convocations":MAILTO:convos@purdue.edu
GEO:40.4311188;-86.8719135
X-APPLE-STRUCTURED-LOCATION;VALUE=URI;X-ADDRESS=Carnahan Hall 2200 Elmwood Ave Lafayette IN 47904 United States;X-APPLE-RADIUS=500;X-TITLE=2200 Elmwood Ave:geo:-86.8719135,40.4311188
END:VEVENT
END:VCALENDAR