BEGIN:VCALENDAR
VERSION:2.0
PRODID:-//Purdue Convocations - ECPv6.15.20//NONSGML v1.0//EN
CALSCALE:GREGORIAN
METHOD:PUBLISH
X-WR-CALNAME:Purdue Convocations
X-ORIGINAL-URL:https://convocations.purdue.edu
X-WR-CALDESC:Events for Purdue Convocations
REFRESH-INTERVAL;VALUE=DURATION:PT1H
X-Robots-Tag:noindex
X-PUBLISHED-TTL:PT1H
BEGIN:VTIMEZONE
TZID:America/Indiana/Indianapolis
BEGIN:DAYLIGHT
TZOFFSETFROM:-0500
TZOFFSETTO:-0400
TZNAME:EDT
DTSTART:20180311T070000
END:DAYLIGHT
BEGIN:STANDARD
TZOFFSETFROM:-0400
TZOFFSETTO:-0500
TZNAME:EST
DTSTART:20181104T060000
END:STANDARD
BEGIN:DAYLIGHT
TZOFFSETFROM:-0500
TZOFFSETTO:-0400
TZNAME:EDT
DTSTART:20190310T070000
END:DAYLIGHT
BEGIN:STANDARD
TZOFFSETFROM:-0400
TZOFFSETTO:-0500
TZNAME:EST
DTSTART:20191103T060000
END:STANDARD
BEGIN:DAYLIGHT
TZOFFSETFROM:-0500
TZOFFSETTO:-0400
TZNAME:EDT
DTSTART:20200308T070000
END:DAYLIGHT
BEGIN:STANDARD
TZOFFSETFROM:-0400
TZOFFSETTO:-0500
TZNAME:EST
DTSTART:20201101T060000
END:STANDARD
BEGIN:DAYLIGHT
TZOFFSETFROM:-0500
TZOFFSETTO:-0400
TZNAME:EDT
DTSTART:20210314T070000
END:DAYLIGHT
BEGIN:STANDARD
TZOFFSETFROM:-0400
TZOFFSETTO:-0500
TZNAME:EST
DTSTART:20211107T060000
END:STANDARD
BEGIN:DAYLIGHT
TZOFFSETFROM:-0500
TZOFFSETTO:-0400
TZNAME:EDT
DTSTART:20220313T070000
END:DAYLIGHT
BEGIN:STANDARD
TZOFFSETFROM:-0400
TZOFFSETTO:-0500
TZNAME:EST
DTSTART:20221106T060000
END:STANDARD
BEGIN:DAYLIGHT
TZOFFSETFROM:-0500
TZOFFSETTO:-0400
TZNAME:EDT
DTSTART:20230312T070000
END:DAYLIGHT
BEGIN:STANDARD
TZOFFSETFROM:-0400
TZOFFSETTO:-0500
TZNAME:EST
DTSTART:20231105T060000
END:STANDARD
BEGIN:DAYLIGHT
TZOFFSETFROM:-0500
TZOFFSETTO:-0400
TZNAME:EDT
DTSTART:20240310T070000
END:DAYLIGHT
BEGIN:STANDARD
TZOFFSETFROM:-0400
TZOFFSETTO:-0500
TZNAME:EST
DTSTART:20241103T060000
END:STANDARD
BEGIN:DAYLIGHT
TZOFFSETFROM:-0500
TZOFFSETTO:-0400
TZNAME:EDT
DTSTART:20250309T070000
END:DAYLIGHT
BEGIN:STANDARD
TZOFFSETFROM:-0400
TZOFFSETTO:-0500
TZNAME:EST
DTSTART:20251102T060000
END:STANDARD
END:VTIMEZONE
BEGIN:VEVENT
DTSTART;TZID=America/Indiana/Indianapolis:20240921T150000
DTEND;TZID=America/Indiana/Indianapolis:20240921T150000
DTSTAMP:20260422T151736
CREATED:20240626T230347Z
LAST-MODIFIED:20240921T115930Z
UID:10000539-1726930800-1726930800@convocations.purdue.edu
SUMMARY:29th Annual West Lafayette Global Fest
DESCRIPTION:29th Annual West Lafayette Global Fest\n\n\n\n\n\n\n\n\nSPECIAL POP-UP PERFORMANCESFRIDAY\, SEPT. 20 // 12:30PM / 3:30PM / 5:30PMPURDUE MEMORIAL UNION EAST TERRACEBALKAN PARADISE ORCHESTRA  \nFREE EVENTFESTIVAL GUIDE\n\n\n\n\n\n\n\nABOUT THE FESTIVAL\nExperience a celebration of cultures at the 29th Annual West Lafayette Global Fest! Join us for an unforgettable day filled with vibrant performances\, mouthwatering international cuisine\, and engaging cultural exhibits and activities. Bring your friends and family to immerse yourselves in a tapestry of global heritage right in the heart of West Lafayette.  \n\n\n\nMain Stage Performers\n\n\n\nMcGovern Irish Dancers // 3:15Boiler Bhangra // 3:45Purdue Chinese Performing Arts Troupe // 4:15Black Voices of Inspiration // 5:30Bia Ferreira // 5:30PM CANCELLEDYemen Blues // 7:00PMBalkan Paradise Orchestra // 9:00PM \n\n\n\nPerformances Throughout The Festival\n\n\n\nOkinawa YuyukaiPurdue AAARCC Lion Dance Team…and more! \n\n\n\n\nYemen Blues\nMAIN STAGE // 7:00PM \n\n\n\nYemen Blues infuses a rich blend of Jewish and Arabic cultural traditions into their music\, creating a fusion that resonates with a deep appreciation for humanity. \nVISIT ARTIST WEBSITE\n\n\n\nBalkan Paradise Orchestra\nMAIN STAGE // 9:00PM \n\n\n\n SPECIAL POP-UP PERFORMANCES FRIDAY\, SEPT. 20   12:30PM / 3:30PM / 5:30PM PURDUE MEMORIAL UNION EAST TERRACE \n\n\n\nCapping off the night is Balkan Paradise Orchestra\, originating from Barcelona\, Spain. They mesmerize audiences with their innovative fusion of Balkan roots and global rhythms\, as heard in their latest album “Nèctar\,” which explores themes of teamwork\, intensity\, and savoring life’s moments. \n\n\n\nBalkan Paradise Orchestra will also be performing FREE pop-up performances around Purdue’s campus on Friday\, September 20th. Details about times/locations coming soon! \nVISIT ARTIST WEBSITE\n\n\n\n\n\n\n\n\n\n\n\n\n\n\n\n\n\n\n\n                    \n                    \n                    \n                    \n                    \n                        prev\n                        next\n\n\n\n\n\n\n\n\n\n\n\n\n\n\nPRESENTED BY:\n\n\n\n\n\n\n\n\n\n\n\n\n\n\n\n\n\n\n\n\n\n\n\nSUPPORT FROM:\n\n\n\nIU Health ArnettIndiana Arts CommissionSouthwireTippecanoe Arts FederationNational Endowment for the ArtsWintekFriends of Convocations EndowmentThe Flora Roberts Fund \n\n\n\nPurdue Federal Credit UnionThe Veridus GroupHenriottWessler EngineeringWest Lafayette Parks & RecreationWest Lafayette Public LibraryPurdue University John Martinson Honors College \n\n\n\nVisit Lafayette-West Lafayette / O.W. Krohn & AssociatesPurdue Black Cultural Center / Purdue Latino Cultural CenterPurdue Asian American and Asian Resource and Cultural Center \n\n\n\n\n\n\n\n\n\n\n \n\n\n\n\n\n\n\n\nPICK5 + SAVE Did you know that if you buy tickets to 5 shows or more\, you save an average of 10% off single-ticket prices? Experience the flexibility of designing your own PICK5 package! GROUP DISCOUNTS If you have 15 or more in your group\, you’ll receive a discount on your tickets as well as bonus tickets for tour organizers\, chaperones or bus drivers. Click here to fill out the group order form. JOIN FRIENDS OF CONVOS Our Friends of Convocations not only enjoy access to the best seats in the house\, but also special parking opportunities\, exclusive artist events\, Pre-Show Club\, and more!
URL:https://convocations.purdue.edu/event/west-lafayette-global-fest-2024/
LOCATION:Downtown West Lafayette\, 222 N Chauncey Ave\, West Lafayette\, IN\, 47907\, United States
CATEGORIES:Family,Festival,Music
ATTACH;FMTTYPE=image/jpeg:https://convocations.purdue.edu/wp-content/uploads/2024/06/1920x1080_GlobalFest_Text.jpg
GEO:40.4401775;-86.9261008
X-APPLE-STRUCTURED-LOCATION;VALUE=URI;X-ADDRESS=Downtown West Lafayette 222 N Chauncey Ave West Lafayette IN 47907 United States;X-APPLE-RADIUS=500;X-TITLE=222 N Chauncey Ave:geo:-86.9261008,40.4401775
END:VEVENT
BEGIN:VEVENT
DTSTART;TZID=America/Indiana/Indianapolis:20190921T140000
DTEND;TZID=America/Indiana/Indianapolis:20190921T220000
DTSTAMP:20260422T151737
CREATED:20190615T010034Z
LAST-MODIFIED:20190823T182507Z
UID:10000283-1569074400-1569103200@convocations.purdue.edu
SUMMARY:24th Annual Global Fest
DESCRIPTION:Once again\, Global Fest will be presented as a street festival\, with Northwestern Avenue\, South Street and Columbia Street as the backdrop for the celebration! Enjoy and explore world cultures through music\, dance\, crafts\, displays and international food all day. Continuous stage entertainment\, cultural displays and children’s activities are among the free events. The festival also will include the International Night Market\, featuring delicacies from all over the world and local craft beer.\n  \nFRIDAY\, SEPTEMBER 20\nNATURALIZATION CEREMONY | White Horse Christian Center | 1780 Cumberland Ave. | 3PM |  Free\nThe naturalization ceremony is a pivotal milestone in the naturalization process\, where soon-to-be citizens swear an oath to the United States and receive their official certificates. The ceremony will feature special guests and a performance by the Purduettes. \n\n\nSATURDAY\, SEPTEMBER 21\nGLOBAL FEST MAIN STAGE | Northwestern Ave. | 2PM-10PM | Free\nJoin us for events that celebrate our diverse community and world cultures through music\, dance\, crafts\, displays\, international food and craft beer. Performances will include Black Voices of Inspiration\, Boiler Bhangra\, Indy Hula\, McGovern Irish Dancers\, Purdue Chinese Performing Arts Troupe\, The Snyders\, and Afroroyale\, plus cultural stories\, workshops & family activities by the National Center for Great Lakes Native American Culture\, Purdue Black Cultural Center and more! The entertainment starts at 2PM and continues into the evening with the following headliners starting at 6PM.  \n \n  \n  \n  \n  \n  \n  \nINTERNATIONAL NIGHT MARKET | 5:30PM-9:30PM | Food prices vary\nDiscover food from around the world in this all-new evening food market. \nAdditional support for Global Fest: \nIndiana Arts Commission\nWest Lafayette Parks & Recreation  |  Friends of Convocations Endowment |  Purdue Federal Credit Union |  Sunbelt Rentals |  Huston Electric |  West Lafayette Public Library |  Garmong Construction Services |  OW Krohn & Associates |  Butler\, Fairman & Seufert Inc. |  Wessler Engineering\nPurdue University Residences  |  Arni’s  |  MBAH Insurance  |  Bowen Engineering  |  Westminster Village  |  Comcast  |  HWC Engineering  |  Indiana American Water  |  Purdue Research Foundation  |  Purdue Black Cultural Center  |  Purdue University International Student Services
URL:https://convocations.purdue.edu/event/24th-annual-global-fest/
LOCATION:IN
CATEGORIES:Family,Music
ATTACH;FMTTYPE=image/png:https://convocations.purdue.edu/wp-content/uploads/2019/06/GFa1920x600.png
ORGANIZER;CN="Purdue Convocations":MAILTO:convos@purdue.edu
END:VEVENT
END:VCALENDAR