BEGIN:VCALENDAR
VERSION:2.0
PRODID:-//Purdue Convocations - ECPv6.15.20//NONSGML v1.0//EN
CALSCALE:GREGORIAN
METHOD:PUBLISH
X-WR-CALNAME:Purdue Convocations
X-ORIGINAL-URL:https://convocations.purdue.edu
X-WR-CALDESC:Events for Purdue Convocations
REFRESH-INTERVAL;VALUE=DURATION:PT1H
X-Robots-Tag:noindex
X-PUBLISHED-TTL:PT1H
BEGIN:VTIMEZONE
TZID:America/Indiana/Indianapolis
BEGIN:DAYLIGHT
TZOFFSETFROM:-0500
TZOFFSETTO:-0400
TZNAME:EDT
DTSTART:20210314T070000
END:DAYLIGHT
BEGIN:STANDARD
TZOFFSETFROM:-0400
TZOFFSETTO:-0500
TZNAME:EST
DTSTART:20211107T060000
END:STANDARD
BEGIN:DAYLIGHT
TZOFFSETFROM:-0500
TZOFFSETTO:-0400
TZNAME:EDT
DTSTART:20220313T070000
END:DAYLIGHT
BEGIN:STANDARD
TZOFFSETFROM:-0400
TZOFFSETTO:-0500
TZNAME:EST
DTSTART:20221106T060000
END:STANDARD
BEGIN:DAYLIGHT
TZOFFSETFROM:-0500
TZOFFSETTO:-0400
TZNAME:EDT
DTSTART:20230312T070000
END:DAYLIGHT
BEGIN:STANDARD
TZOFFSETFROM:-0400
TZOFFSETTO:-0500
TZNAME:EST
DTSTART:20231105T060000
END:STANDARD
END:VTIMEZONE
BEGIN:VEVENT
DTSTART;TZID=America/Indiana/Indianapolis:20220212T200000
DTEND;TZID=America/Indiana/Indianapolis:20220212T200000
DTSTAMP:20260421T012159
CREATED:20211008T010000Z
LAST-MODIFIED:20220202T231453Z
UID:10000288-1644696000-1644696000@convocations.purdue.edu
SUMMARY:Emmet Cohen Trio
DESCRIPTION:A delicate touch\, assured\, swaggering swing feel\, and debonair flow. ― The New York Times\nHarkening back to Harlem rent parties of yesteryear\, Live from Emmet’s Place invited online audiences inside the apartment of jazz pianist Emmet Cohen as one of the most welcome of COVID-era pivots. Convos supported these instant-favorite Monday-night livestreams in early 2021\, which grafted Cohen’s fluid grasp of the jazz canon with a deeply grooving rhythm section—featuring bassist Russell Hall and drummer Kyle Poole\, along with a remarkable cast of superlative “houseguests” to create one of the most successful-yet-intimate jazz experiences on the internet. Now\, Convos is thrilled to welcome Cohen’s trio along with some of your favorite Live From Emmet’s Place All-Stars for a real-time\, in-person performance. In 2019\, Cohen’s trio previously backed jazz vocalist Veronica Swift’s Purdue engagement during the same week in which Cohen was named the American Pianists Association’s Cole Porter Fellow in Jazz. Having since lit up legendary nightclubs and jazz festivals worldwide with his inimitable charm\, Cohen will now turn Loeb Playhouse into a Live from Emmet’s Place at Purdue.\n\n \n\nPROTECT PURDUE POLICIES\n\n 
URL:https://convocations.purdue.edu/event/emmet-cohen-trio/
LOCATION:Loeb Playhouse\, 128 Memorial Mall\, West Lafayette\, IN\, 47907\, United States
CATEGORIES:Jazz,Music,Piano
ATTACH;FMTTYPE=image/jpeg:https://convocations.purdue.edu/wp-content/uploads/2021/09/1920x600-5.jpg
ORGANIZER;CN="Purdue Convocations":MAILTO:convos@purdue.edu
GEO:40.42508;-86.912651
X-APPLE-STRUCTURED-LOCATION;VALUE=URI;X-ADDRESS=Loeb Playhouse 128 Memorial Mall West Lafayette IN 47907 United States;X-APPLE-RADIUS=500;X-TITLE=128 Memorial Mall:geo:-86.912651,40.42508
END:VEVENT
END:VCALENDAR