BEGIN:VCALENDAR
VERSION:2.0
PRODID:-//Purdue Convocations - ECPv6.15.20//NONSGML v1.0//EN
CALSCALE:GREGORIAN
METHOD:PUBLISH
X-WR-CALNAME:Purdue Convocations
X-ORIGINAL-URL:https://convocations.purdue.edu
X-WR-CALDESC:Events for Purdue Convocations
REFRESH-INTERVAL;VALUE=DURATION:PT1H
X-Robots-Tag:noindex
X-PUBLISHED-TTL:PT1H
BEGIN:VTIMEZONE
TZID:America/New_York
BEGIN:DAYLIGHT
TZOFFSETFROM:-0500
TZOFFSETTO:-0400
TZNAME:EDT
DTSTART:20240310T070000
END:DAYLIGHT
BEGIN:STANDARD
TZOFFSETFROM:-0400
TZOFFSETTO:-0500
TZNAME:EST
DTSTART:20241103T060000
END:STANDARD
BEGIN:DAYLIGHT
TZOFFSETFROM:-0500
TZOFFSETTO:-0400
TZNAME:EDT
DTSTART:20250309T070000
END:DAYLIGHT
BEGIN:STANDARD
TZOFFSETFROM:-0400
TZOFFSETTO:-0500
TZNAME:EST
DTSTART:20251102T060000
END:STANDARD
BEGIN:DAYLIGHT
TZOFFSETFROM:-0500
TZOFFSETTO:-0400
TZNAME:EDT
DTSTART:20260308T070000
END:DAYLIGHT
BEGIN:STANDARD
TZOFFSETFROM:-0400
TZOFFSETTO:-0500
TZNAME:EST
DTSTART:20261101T060000
END:STANDARD
END:VTIMEZONE
BEGIN:VTIMEZONE
TZID:America/Indiana/Indianapolis
BEGIN:DAYLIGHT
TZOFFSETFROM:-0500
TZOFFSETTO:-0400
TZNAME:EDT
DTSTART:20200308T070000
END:DAYLIGHT
BEGIN:STANDARD
TZOFFSETFROM:-0400
TZOFFSETTO:-0500
TZNAME:EST
DTSTART:20201101T060000
END:STANDARD
BEGIN:DAYLIGHT
TZOFFSETFROM:-0500
TZOFFSETTO:-0400
TZNAME:EDT
DTSTART:20210314T070000
END:DAYLIGHT
BEGIN:STANDARD
TZOFFSETFROM:-0400
TZOFFSETTO:-0500
TZNAME:EST
DTSTART:20211107T060000
END:STANDARD
BEGIN:DAYLIGHT
TZOFFSETFROM:-0500
TZOFFSETTO:-0400
TZNAME:EDT
DTSTART:20220313T070000
END:DAYLIGHT
BEGIN:STANDARD
TZOFFSETFROM:-0400
TZOFFSETTO:-0500
TZNAME:EST
DTSTART:20221106T060000
END:STANDARD
BEGIN:DAYLIGHT
TZOFFSETFROM:-0500
TZOFFSETTO:-0400
TZNAME:EDT
DTSTART:20230312T070000
END:DAYLIGHT
BEGIN:STANDARD
TZOFFSETFROM:-0400
TZOFFSETTO:-0500
TZNAME:EST
DTSTART:20231105T060000
END:STANDARD
BEGIN:DAYLIGHT
TZOFFSETFROM:-0500
TZOFFSETTO:-0400
TZNAME:EDT
DTSTART:20240310T070000
END:DAYLIGHT
BEGIN:STANDARD
TZOFFSETFROM:-0400
TZOFFSETTO:-0500
TZNAME:EST
DTSTART:20241103T060000
END:STANDARD
BEGIN:DAYLIGHT
TZOFFSETFROM:-0500
TZOFFSETTO:-0400
TZNAME:EDT
DTSTART:20250309T070000
END:DAYLIGHT
BEGIN:STANDARD
TZOFFSETFROM:-0400
TZOFFSETTO:-0500
TZNAME:EST
DTSTART:20251102T060000
END:STANDARD
BEGIN:DAYLIGHT
TZOFFSETFROM:-0500
TZOFFSETTO:-0400
TZNAME:EDT
DTSTART:20260308T070000
END:DAYLIGHT
BEGIN:STANDARD
TZOFFSETFROM:-0400
TZOFFSETTO:-0500
TZNAME:EST
DTSTART:20261101T060000
END:STANDARD
END:VTIMEZONE
BEGIN:VEVENT
DTSTART;TZID=America/New_York:20250928T150000
DTEND;TZID=America/New_York:20250928T150000
DTSTAMP:20260420T111924
CREATED:20250515T133352Z
LAST-MODIFIED:20250912T150209Z
UID:10000554-1759071600-1759071600@convocations.purdue.edu
SUMMARY:Harlem Quartet
DESCRIPTION:Harlem Quartet\n\n\n\n\n\nViolinist Melissa White returns to Purdue with the Grammy®-winning Harlem Quartet. \n\n\n\n\n\n\n\n\n\n\n\n    \n                    Buy Tickets\n                    PICK5+ & Save!\n            \n\n\n\n\n\n\n\n\n\n\n\n\n\n\n\n\n \n\n\n\n    \n\n\n\n    \n                \n            ABOUT Harlem Quartet\n        \n                \n\n\n\n\n\n\n\n\n\nPurdue audiences will remember Melissa White from her amazing Spring 2024 appearance at Loeb Playhouse. White returns with the Grammy®-winning Harlem Quartet—White\, Ilmar Gavilán\, Jaime Amador\, and Felix Umansky—acclaimed for their dynamic performances and genre-defying approach to classical music. \n\n\n\nKnown for blending classical\, jazz\, Latin\, and contemporary works by underrepresented composers\, the quartet has performed around the world\, including at the White House for First Lady Michelle Obama. \n\n\n\nTheir innovative collaborations include projects with Chick Corea\, Gary Burton\, Paquito D’Rivera\, and Imani Winds\, with whom they earned a 2023 Grammy® for Passion for Bach & Coltrane. \n\n\n\nThe New York Times praised their “panache\,” while Grammy®-winning virtuoso Ted Nash of the Jazz at Lincoln Center Orchestra declares: \n\n\n\n\n\n\n\n\nHarlem Quartet is one of the greatest string quartets I have ever heard. They can play anything. \n\n\n\n\n\n\n\n\nFollow Harlem Quartet\n\n\n\n\n\n\n\n\n\n\n\n\n\n\n\n\n\n\n\n\n\n\n\n\n\n\n\n    \n                \n            Know Before You Go\n        \n                \n\n\n\n    \n                    Manage Tickets\n            \n\n\n\n\n    \n                    Directions & Parking\n            \n\n\n\n\n    \n                    Program\n            \n\n\n\n\n    \n\n\n\n    \n                \n            Generous support from\n        \n                \n\n\n\n\n\n\n\n\n\n\n\n\n\n\n\n\n\n\n\n\n\n\n\nADDITIONAL SUPPORT\n\n\n\n\n\n\n\n\n\n\n\n\n\n\n\n\n\n\n\n\n\n\n\n\n\n\n\nConvos is Self-Supporting.Your Ticket Purchases and Generous GiftsPower it All! \n\n\n\n    \n                    Learn More\n            \n\n\n\n\n    \n\n\n\n    \n                \n            Dive Deeper\n        \n                \n\n\n\nExclusive for Friends: Behind the Music with Harlem Quartet\n\n\n\nSaturday\, September 27\, 20257:00 pm / Purdue Memorial Union\, Room 118 \n\n\n\nJoin your fellow Friends of Convocations the night before for an evening of music\, food\, culture and conversation. Enjoy light hors d’oeuvres\, desserts and coffee provided by 8Eleven Modern Bistro while you listen to Harlem Quartet perform and discuss the music in their program. \n\n\n\n    \n                    LEARN MORE\n            \n\n\n\n\n\n\n\n\nHarlem Quartet Live in Studio\n\n\n\nViolinists Ilmar Gavilán and Melissa White\, violist Jaime Amador and cellist Felix Umansky visited Interlochen Public Radio’s Studio A to perform and talk about their current projects. White is an alumna of Interlochen Arts Academy.Listen to their live performance and interview. \n\n\n\n    \n                    Apple Podcasts\n                    Spotify Podcasts\n            \n\n\n\n\n    \n\n\n\n    \n\n\n\n\n\n\n\n\n\n\n \n\n\n\n\n\n\n    \n                \n            Enhance your experience\n        \n                \n\n\n\n        \n        \n                            \n                    \n                                                    \n                                                                \n                                                                    \n                                        \n                                    \n                                                                    \n                                                                                    BUILD YOUR OWN SEASON \n                                                                                PICK5 + Save \n                                                                                    Did you know that if you buy 5 shows or more (not 5 tickets)\, you save an average of 10% off single-ticket prices? Experience the flexibility of designing your own PICK5 package! \n                                                                                    BUNDLE & SAVE\n                                                                            \n                                \n                            \n                                                    \n                                                                \n                                                                    \n                                        \n                                    \n                                                                    \n                                                                                    BRING YOUR FRIENDS \n                                                                                Group Discounts \n                                                                                    If you have 15 or more in your group\, you’ll receive a discount on your tickets as well as bonus tickets for tour organizers\, chaperones or bus drivers. Click here to fill out the group order form. \n                                                                                    BRING YOUR GROUP\n                                                                            \n                                \n                            \n                                                    \n                                                                \n                                                                    \n                                        \n                                    \n                                                                    \n                                                                                    SUPPORT THE ARTS AT PURDUE \n                                                                                Friends of Convos \n                                                                                    Our Friends of Convocations not only enjoy access to the best seats in the house\, but also special parking opportunities\, exclusive artist events\, Pre-Show Club\, and more! \n                                                                                    Join Today
URL:https://convocations.purdue.edu/event/harlem-quartet/
LOCATION:Loeb Playhouse\, 128 Memorial Mall\, West Lafayette\, IN\, 47907\, United States
CATEGORIES:Classical,Music
ATTACH;FMTTYPE=image/png:https://convocations.purdue.edu/wp-content/uploads/2025/05/Harlem-Quartet-9.28.png
GEO:40.42508;-86.912651
X-APPLE-STRUCTURED-LOCATION;VALUE=URI;X-ADDRESS=Loeb Playhouse 128 Memorial Mall West Lafayette IN 47907 United States;X-APPLE-RADIUS=500;X-TITLE=128 Memorial Mall:geo:-86.912651,40.42508
END:VEVENT
BEGIN:VEVENT
DTSTART;TZID=America/Indiana/Indianapolis:20250410T193000
DTEND;TZID=America/Indiana/Indianapolis:20250410T193000
DTSTAMP:20260420T111924
CREATED:20240626T230531Z
LAST-MODIFIED:20241211T222607Z
UID:10000534-1744313400-1744313400@convocations.purdue.edu
SUMMARY:"Vivaldi's Four Seasons at 300" Les Arts Florissants with Théotime Langlois de Swarte\, violin
DESCRIPTION:Vivaldi’s Four Seasons at 300\nLes Arts Florissants with Théotime Langlois de Swarte\, violin\n\n\n\n\n\n\n\n\nBUY TICKETSPICK5 + SAVE\n\n\n\n\n\n\n\n\n\n\n\n\n\n\n\nTHIS PERFORMANCE POWERED BY:\n\n\n\n\n\n\n\n\n\n\n\n\n\n\n\n\n\n\n\n\n\n\n\n\n\n\n\n\n\n\n\n\n\n\n\n\n\n\n\n\n\n\n\n\n\n\n\n\n\n\n\n\n\n\n\n\n\n\n\n\n\nABOUT THE SHOW\nBaroque superstars Les Arts Florissants are joined by fast-rising violinist Théotime Langlois de Swarte in “Vivaldi’s Four Seasons at 300\,” commemorating the work’s original publication in 1725. The program frames these iconic masterpieces afresh\, setting them alongside music Vivaldi would have known in Venice and compositions which were in turn inspired by his bold vision.  \n\n\n\nLes Arts Florissants\, founded in 1979 by William Christie\, are celebrated pioneers in the revival of Baroque music. Renowned for their period instrument performances\, they excel in interpreting the works of composers like Vivaldi\, Handel\, and Monteverdi.  \n\n\n\nViolinist Théotime Langlois de Swarte is renowned for his captivating performances and deep musical sensitivity. With a repertoire spanning from Baroque to contemporary works\, he enchants audiences worldwide with his exquisite artistry and profound interpretation. \n\n\n\n\n\n\n\n“Vivaldi’s Four Seasons at 300”\n\n\n\n(Ensemble of 15 musicians) \n\n\n\n\n\n\n\nClaudio Monteverdi (1567 -1643): Adoramus te\, SV 289\, transcription. \n\n\n\nAntonio Vivaldi  (1678–1741): Concerto for strings and basso continuo Madrigalesco” RV 129 \n\n\n\nMarco Uccellini (1603-1680): Bergamasca \n\n\n\nVivaldi:  Concerto in D-Minor\, RV 813 \n\n\n\nFrancesco Geminiani (1687–1762):  Concerto XII in D-minor “Follia”. (after Corelli) \n\n\n\nVivaldi:  Concerto in E-Major\, Op. 8\, No. 1\, RV 269  (“Spring”) \n\n\n\nVivaldi:  Concerto in G-Minor\, Op. 8\, No. 2\, RV 315 (“Summer”) \n\n\n\n–Intermission– \n\n\n\nVivaldi:  Overture to “La Fida Ninfa” (“The Faithful Nymph”) in F-Major\, FV 714Vivaldi:  Concerto in F-Major\, Op. 8\, No. 3 RV 293 (“Autumn”) \n\n\n\nVivaldi:  Grave from Violin Concerto in Bb-Major\, RV 370Vivaldi:  Concerto in F-Minor\, Op. 8\, No. 4 RV 297 (“Winter”) \n\n\n\n\n\n\n\n\n\n\n\n\n\n\n\n\n\n\n\n\n\n\n                    \n                    \n                    \n                    \n                    \n                        prev\n                        next\n\n\n\nRelated Convos Events \n\n\n\n\n\n			\n	\n\n	\n\n	\n	\n		\n			Magdalena Bay		\n	\n	Thursday\, April 23  /  7:30 pm  EDT \n\n	\n\n\n\n\nALL EVENTS\n\n\n\n\nPICK5 + SAVE Did you know that if you buy 5 shows or more (not 5 tickets)\, you save an average of 10% off single-ticket prices? Experience the flexibility of designing your own PICK5 package! GROUP DISCOUNTS If you have 15 or more in your group\, you’ll receive a discount on your tickets as well as bonus tickets for tour organizers\, chaperones or bus drivers. Click here to fill out the group order form. JOIN FRIENDS OF CONVOS Our Friends of Convocations not only enjoy access to the best seats in the house\, but also special parking opportunities\, exclusive artist events\, Club Convos\, and more!
URL:https://convocations.purdue.edu/event/les-arts-florissants-with-theotime-langlois-de-swarte-2025/
LOCATION:Loeb Playhouse\, 128 Memorial Mall\, West Lafayette\, IN\, 47907\, United States
CATEGORIES:Classical,Music
ATTACH;FMTTYPE=image/jpeg:https://convocations.purdue.edu/wp-content/uploads/2024/06/FourSeasons_1920x1080.jpg
ORGANIZER;CN="Purdue Convocations":MAILTO:convos@purdue.edu
GEO:40.42508;-86.912651
X-APPLE-STRUCTURED-LOCATION;VALUE=URI;X-ADDRESS=Loeb Playhouse 128 Memorial Mall West Lafayette IN 47907 United States;X-APPLE-RADIUS=500;X-TITLE=128 Memorial Mall:geo:-86.912651,40.42508
END:VEVENT
BEGIN:VEVENT
DTSTART;TZID=America/Indiana/Indianapolis:20240223T200000
DTEND;TZID=America/Indiana/Indianapolis:20240223T200000
DTSTAMP:20260420T111924
CREATED:20230706T223000Z
LAST-MODIFIED:20240221T161421Z
UID:10000511-1708718400-1708718400@convocations.purdue.edu
SUMMARY:Melissa White & Pallavi Mahidhara
DESCRIPTION:Melissa White & Pallavi Mahidhara\nRISING STARS DISCOVERY CONCERT\n\n\n\n\nBUY TICKETSPICK5+SAVE\n\n\n\n\n\n\n\nABOUT THE SHOW\n\n\nViolinist Melissa White made history in 2022 as concertmaster of Recollective Orchestra\, the first all-Black orchestra to perform at the famous Hollywood Bowl. The occasion\, aired live on CNN\, was a Juneteenth program presented by the LA Philharmonic to mark the Bowl’s centenary.  Since then\, White’s been enchanting audiences around the world on her recent European tour\, which included her Irish debut and a smashing return to London. White was recently nominated for a 2024 GRAMMY for Best Classical Compendium as a member of Harlem Quartet. \n\n\n\nNow\, on the heels of her Carnegie Hall debut in June 2023\, White makes her first visit to Purdue\, where she will lead a chamber concert with pianist Pallavi Mahidhara\, a highly decorated international sensation. The young musician is also a podcast host; Mahidhara’s The Conscious Artist explores musicians’ mental health. \nMELISSA WHITE WEBSITEPALLAVI MAHIDHARA WEBSITE\n\n\n\nEXPLORE THE SHOW\n\n\n\n\n\nMeet violinist Melissa White & pianist Pallavi Mahidhara ahead of their February 23 performanceMelissa White\, acclaimed violinist and Joyce C. Willis Artist in Residence with the Hartford Symphony Orchestra\, showcases her expressive playing and diverse engagements. With the Grammy-winning Harlem Quartet\, she promotes diversity in classical music. Meanwhile\, pianist Pallavi Mahidhara\, known for international acclaim and advocacy for mental health\, collaborates with White and hosts “The Conscious Artist” podcast\, exploring the intersection of music\, mindfulness\, and wellness. \nContinue Reading\n\n\n\n\n\n\n\n\n\n\n\n\n\n\n\nWatch a short preview of Melissa White and Pallavi Mahidhara’s upcoming performance at Purdue. \n\n\n\n\n\n\n\n\n\n\n\n\n\nTHIS PERFORMANCE POWERED BY:\n\n\n\n\n\n\n\n\n\n\n\n\n\n\n\n\n\n\n\n\n\n\n\n\n\n\n\n\n\n\n\n\n\n\n\n\n \n\n\n\n\n\nPICK5 + SAVE Did you know that if you buy 5 shows or more (not 5 tickets)\, you save an average of 15% off single-ticket prices? Experience the flexibility of designing your own PICK5 package! GROUP DISCOUNTS If you have 15 or more in your group\, you’ll receive a discount on your tickets as well as bonus tickets for tour organizers\, chaperones or bus drivers. Click here to fill out the group order form. JOIN FRIENDS OF CONVOS Our Friends of Convocations not only enjoy access to the best seats in the house\, but also special parking opportunities\, exclusive artist events\, Pre-Show Club\, and more!
URL:https://convocations.purdue.edu/event/melissa-white-and-pallavi-mahidhara-2024/
LOCATION:Loeb Playhouse\, 128 Memorial Mall\, West Lafayette\, IN\, 47907\, United States
CATEGORIES:Chamber,Classical,Music
ATTACH;FMTTYPE=image/jpeg:https://convocations.purdue.edu/wp-content/uploads/2023/06/white_1920x1080.jpg
ORGANIZER;CN="Purdue Convocations":MAILTO:convos@purdue.edu
GEO:40.42508;-86.912651
X-APPLE-STRUCTURED-LOCATION;VALUE=URI;X-ADDRESS=Loeb Playhouse 128 Memorial Mall West Lafayette IN 47907 United States;X-APPLE-RADIUS=500;X-TITLE=128 Memorial Mall:geo:-86.912651,40.42508
END:VEVENT
BEGIN:VEVENT
DTSTART;TZID=America/Indiana/Indianapolis:20240208T193000
DTEND;TZID=America/Indiana/Indianapolis:20240208T193000
DTSTAMP:20260420T111924
CREATED:20230706T223019Z
LAST-MODIFIED:20240202T203608Z
UID:10000508-1707420600-1707420600@convocations.purdue.edu
SUMMARY:Counterpoint
DESCRIPTION:Counterpoint\nCONRAD TAO\, PIANO\n\n\n\nCALEB TEICHER\, TAP\n\n\n\n\nBUY TICKETSDIGITAL PROGRAM\n\n\n\n\n\n\n\nABOUT THE SHOW\n\n\nThe unique duo of classical pianist Conrad Tao and dancer/choreographer Caleb Teicher bring their new sonic and visual take on masterworks of Bach\, Mozart\, Brahms\, and Gershwin to Loeb Playhouse this February.  \n\n\n\nBlending Tao’s idiosyncratic harmonic mastery with Teicher’s contemporary and percussive tap dancing\, Counterpoint threads together stylistically varied\, landmark pieces into one cohesive thought. Audiences can expect these to include Aria from Bach’s Goldberg Variations\, Arnold Schoenberg’s Five Piano Pieces\, and Gershwin’s Rhapsody in Blue\, which celebrates its 100th anniversary in 2024. Tao and Teicher’s earlier work\, More Forever\, is a Bessie Award-winning\, New York Times critic’s pick\, where it was praised for “constantly extending the sonic aspects of dance.” \n\n\n\n\n\n\n\n\n\n\n\n\n\n\n\n\n\n\n\n \n\n\n\n\n\n\n\n\n\nOne’s a tap prodigy. The other’s a piano virtuoso. Together\, they create magic onstage.  The San Diego Union Tribune \n\n\n\n\n\n \n\n\n\n\n\n\n                        prev\n                        next\n\n\n\n\n\n\n\n\n\n\nTHIS PERFORMANCE POWERED BY:\n\n\n\n\n\n\n\n\n\n\n\n\n\n\n\n\n\n\n\n\n\n\n\n\n\n\n\n\n\n\n \n\n\n\n\n\nPICK5 + SAVE Did you know that if you buy 5 shows or more (not 5 tickets)\, you save an average of 15% off single-ticket prices? Experience the flexibility of designing your own PICK5 package! GROUP DISCOUNTS If you have 15 or more in your group\, you’ll receive a discount on your tickets as well as bonus tickets for tour organizers\, chaperones or bus drivers. Click here to fill out the group order form. JOIN FRIENDS OF CONVOS Our Friends of Convocations not only enjoy access to the best seats in the house\, but also special parking opportunities\, exclusive artist events\, Pre-Show Club\, and more!
URL:https://convocations.purdue.edu/event/counterpoint-2024/
LOCATION:Loeb Playhouse\, 128 Memorial Mall\, West Lafayette\, IN\, 47907\, United States
CATEGORIES:Classical,Dance,Music,Piano
ATTACH;FMTTYPE=image/jpeg:https://convocations.purdue.edu/wp-content/uploads/2023/06/counter_1920x1080.jpg
ORGANIZER;CN="Purdue Convocations":MAILTO:convos@purdue.edu
GEO:40.42508;-86.912651
X-APPLE-STRUCTURED-LOCATION;VALUE=URI;X-ADDRESS=Loeb Playhouse 128 Memorial Mall West Lafayette IN 47907 United States;X-APPLE-RADIUS=500;X-TITLE=128 Memorial Mall:geo:-86.912651,40.42508
END:VEVENT
BEGIN:VEVENT
DTSTART;TZID=America/Indiana/Indianapolis:20221120T150000
DTEND;TZID=America/Indiana/Indianapolis:20221120T150000
DTSTAMP:20260420T111924
CREATED:20220707T233000Z
LAST-MODIFIED:20221024T201907Z
UID:10000375-1668956400-1668956400@convocations.purdue.edu
SUMMARY:Kenny Broberg
DESCRIPTION:Rising Stars Discovery Concert\n\n\n\n\n\n\n\n\n\n\n\n\n\n\n\n\n\n\n\n\n\n\n\n\n\n\n\n\n\nTICKETS ON SALE NOW!\n\n\n\n\n\nBUY TICKETS\n\n\n\n\n\nPICK5 + SAVE\n\n\n\n\n\nGROUP ORDER FORM\n\n\n\n\n\nBroberg mastered everything he performed over the weekend\, pulling a palette of moods from every register. Indianapolis Star \n\n\n\nA masterful musician with Midwestern roots\, Kenny Broberg can thank the Hoosier State for a career boost. The pianist from Minneapolis\, Minnesota\, now living in Madrid\, Spain\, has gained broader acclaim since winning the 2021 American Pianists Awards and Christel DeHaan Classical Fellowship in Indianapolis. He also inspires young music students as an artist-in-residence at the University of Indianapolis.  \n\n\n\nA Cliburn Competition winner\, Broberg’s original composition “Barcarolle” was recently featured on National Public Radio. He has thrilled audiences on four different continents\, but with so much time in Indiana\, Broberg is a fan of Boilermaker hospitality. Look for Broberg’s debut album on the Steinway & Sons label in January 2023. \n\n\n\n\n\n\n\n\n\n\n\n\nSHOW SPONSORS\n\n\n\n\n\n\n\n\n\n\n\n\n\n\n\n\n\n\n\n\n\n\n\n\n\n\n\n\n\n\n\n\n\n\n\n\n\n\n\n\n\n\n\n\n\n\n\n\n\n\n\n\n\n\n\n\n\n\n\n\n\n\n\nRelated Links\n\n\n\n\n\n\nWebsiteFacebookInstagramSpotifyAmerican Pianists Awards Performances
URL:https://convocations.purdue.edu/event/kenny-broberg/
LOCATION:Loeb Playhouse\, 128 Memorial Mall\, West Lafayette\, IN\, 47907\, United States
CATEGORIES:Chamber Music,Classical,Music,Piano
ATTACH;FMTTYPE=image/jpeg:https://convocations.purdue.edu/wp-content/uploads/2022/06/KENNY1920x1080.jpg
ORGANIZER;CN="Purdue Convocations":MAILTO:convos@purdue.edu
GEO:40.42508;-86.912651
X-APPLE-STRUCTURED-LOCATION;VALUE=URI;X-ADDRESS=Loeb Playhouse 128 Memorial Mall West Lafayette IN 47907 United States;X-APPLE-RADIUS=500;X-TITLE=128 Memorial Mall:geo:-86.912651,40.42508
END:VEVENT
BEGIN:VEVENT
DTSTART;TZID=America/Indiana/Indianapolis:20210225T193000
DTEND;TZID=America/Indiana/Indianapolis:20210225T193000
DTSTAMP:20260420T111924
CREATED:20210205T151958Z
LAST-MODIFIED:20210205T155724Z
UID:10000311-1614281400-1614281400@convocations.purdue.edu
SUMMARY:Ran Dank & Soyeon Kate Lee
DESCRIPTION:With “a huge\, richly varied sound\, a lively imagination and a firm sense of style” (The New York Times)\, the prize-winning pianists and spouses Ran Dank and Soyeon Kate Lee\, will tackle Franz Liszt’s towering–and fiendishly difficult–transcription of Beethoven’s final orchestral masterpiece\, the Symphony No. 9 in D minor in a special virtual presentation. As if the demands that Beethoven placed on the orchestra in this work weren’t enough\, the imaginative transformation envisioned by Liszt throws down the pianistic gauntlet still further to create the dramatic colors and textures of the orchestra\, and yes\, that cathartic lift of magnificence: The Ode to Joy chorale. \nOur April 2020 engagement with the Dank & Lee was cancelled due to COVID\, but this hybrid engagement brings the duo back to our community featuring a live introduction with Dank & Lee in which they’ll introduce the work and its themes\, examine the orchestral and pianistic challenges\, and share their perspectives on performing the masterwork. Then\, by special arrangement with the Library of Congress\, Convocations will rebroadcast Dank & Lee’s exceptional performance from December 2020. This is a perfect way to honor Beethoven’s 250th birthday celebration season. \n  \n 
URL:https://convocations.purdue.edu/event/ran-dank-soyeon-kate-lee/
LOCATION:West Lafayette\, IN\, 47907\, United States
CATEGORIES:Classical,Music,Virtual
ATTACH;FMTTYPE=image/png:https://convocations.purdue.edu/wp-content/uploads/2021/02/dank_1920x600.png
ORGANIZER;CN="Purdue Convocations":MAILTO:convos@purdue.edu
GEO:40.4401775;-86.9261008
END:VEVENT
END:VCALENDAR